BEGIN:VCALENDAR
VERSION:2.0
PRODID:-//Minnesota Connect Aphasia Now - ECPv6.15.20//NONSGML v1.0//EN
CALSCALE:GREGORIAN
METHOD:PUBLISH
X-WR-CALNAME:Minnesota Connect Aphasia Now
X-ORIGINAL-URL:https://mncan.org
X-WR-CALDESC:Events for Minnesota Connect Aphasia Now
REFRESH-INTERVAL;VALUE=DURATION:PT1H
X-Robots-Tag:noindex
X-PUBLISHED-TTL:PT1H
BEGIN:VTIMEZONE
TZID:America/Menominee
BEGIN:DAYLIGHT
TZOFFSETFROM:-0600
TZOFFSETTO:-0500
TZNAME:CDT
DTSTART:20250309T080000
END:DAYLIGHT
BEGIN:STANDARD
TZOFFSETFROM:-0500
TZOFFSETTO:-0600
TZNAME:CST
DTSTART:20251102T070000
END:STANDARD
BEGIN:DAYLIGHT
TZOFFSETFROM:-0600
TZOFFSETTO:-0500
TZNAME:CDT
DTSTART:20260308T080000
END:DAYLIGHT
BEGIN:STANDARD
TZOFFSETFROM:-0500
TZOFFSETTO:-0600
TZNAME:CST
DTSTART:20261101T070000
END:STANDARD
BEGIN:DAYLIGHT
TZOFFSETFROM:-0600
TZOFFSETTO:-0500
TZNAME:CDT
DTSTART:20270314T080000
END:DAYLIGHT
BEGIN:STANDARD
TZOFFSETFROM:-0500
TZOFFSETTO:-0600
TZNAME:CST
DTSTART:20271107T070000
END:STANDARD
END:VTIMEZONE
BEGIN:VEVENT
DTSTART;TZID=America/Menominee:20260423T093000
DTEND;TZID=America/Menominee:20260423T110000
DTSTAMP:20260423T074715
CREATED:20260105T212627Z
LAST-MODIFIED:20260129T141450Z
UID:10005509-1776936600-1776942000@mncan.org
SUMMARY:South Metro (formerly Eagan) In-Person Aphasia Conversation Group
DESCRIPTION:Aphasia conversation groups are 6-7 people with aphasia who gather to practice conversation techniques and find connection. The groups are facilitated by a speech language pathologist and focus on both the Life Participation Approach to Aphasia (LPAA) and Supportive Conversation for Aphasia (SCA). Conversation groups are a great opportunity to gain confidence and build friendships to continue to participate in life with aphasia. \nThis group meets at a location in Apple Valley\, Minnesota. \nRegistration is required. If you are interested in learning more\, please email us at contact@mncan.org or call 612-524-8802.
URL:https://mncan.org/event/eagan-aphasia-in-person-aphasia-conversation-group-2/2026-04-23/
LOCATION:MN
ATTACH;FMTTYPE=image/png:https://mncan.org/wp-content/uploads/2024/11/Aphasia.png
END:VEVENT
BEGIN:VEVENT
DTSTART;TZID=America/Menominee:20260424T100000
DTEND;TZID=America/Menominee:20260424T113000
DTSTAMP:20260423T074715
CREATED:20260302T213148Z
LAST-MODIFIED:20260303T011138Z
UID:10005855-1777024800-1777030200@mncan.org
SUMMARY:Coffee and Connections
DESCRIPTION:Angie Maier and Jessica Wald\, MnCAN Directors\, would love to invite you to join us for coffee. \n\n\nWhether you are new to MnCAN or have been involved for 10 years or more\, you are invited! Stop in anytime\, purchase your coffee or bakery treat and enjoy conversation with our MnCAN Community!
URL:https://mncan.org/event/coffee-and-connections-9/
LOCATION:Lunds and Byerly’s / Caribou Coffee\, 13081 Ridgedale Drive\, Minnetonka\, MN\, 55305
ATTACH;FMTTYPE=image/png:https://mncan.org/wp-content/uploads/2025/08/Screenshot-2025-08-15-221923.png
ORGANIZER;CN="MnCAN":MAILTO:contact@mncan.org
END:VEVENT
BEGIN:VEVENT
DTSTART;TZID=America/Menominee:20260427T103000
DTEND;TZID=America/Menominee:20260427T120000
DTSTAMP:20260423T074715
CREATED:20260105T212352Z
LAST-MODIFIED:20260129T143221Z
UID:10005837-1777285800-1777291200@mncan.org
SUMMARY:United Hospital In-Person Aphasia Conversation Group
DESCRIPTION:Aphasia conversation groups are 6-7 people with aphasia who gather to practice conversation techniques and find connection. The groups are facilitated by a speech language pathologist and focus on both the Life Participation Approach to Aphasia (LPAA) and Supportive Conversation for Aphasia (SCA). Conversation groups are a great opportunity to gain confidence and build friendships to continue to participate in life with aphasia. \nThis group meets at United Hospital. \nRegistration is required. If you are interested in learning more\, please email us at contact@mncan.org or call 612-524-8802. \n 
URL:https://mncan.org/event/united-hospital-in-person-aphasia-conversation-group-2/2026-04-27/
LOCATION:MN
ATTACH;FMTTYPE=image/png:https://mncan.org/wp-content/uploads/2024/11/Aphasia.png
ORGANIZER;CN="MnCAN":MAILTO:contact@mncan.org
END:VEVENT
BEGIN:VEVENT
DTSTART;TZID=America/Menominee:20260427T130000
DTEND;TZID=America/Menominee:20260427T143000
DTSTAMP:20260423T074715
CREATED:20260303T010640Z
LAST-MODIFIED:20260303T010645Z
UID:10005621-1777294800-1777300200@mncan.org
SUMMARY:Victoria In-Person Aphasia Conversation Group
DESCRIPTION:Aphasia conversation groups are 6-7 people with aphasia who gather to practice conversation techniques and find connection. The groups are facilitated by a speech language pathologist and focus on both the Life Participation Approach to Aphasia (LPAA) and Supportive Conversation for Aphasia (SCA). Conversation groups are a great opportunity to gain confidence and build friendships to continue to participate in life with aphasia. \nRegistration is required. If you are interested in learning more\, please email us at contact@mncan.org or call 612-524-8802.
URL:https://mncan.org/event/victoria-in-person-aphasia-conversation-group-2-2/2026-04-27/
LOCATION:Mount Olivet Lutheran Church West Campus\, 7150 Rolling Acres Road\, minnestrista\, MN\, 55331\, United States
ORGANIZER;CN="MnCAN":MAILTO:contact@mncan.org
END:VEVENT
BEGIN:VEVENT
DTSTART;TZID=America/Menominee:20260427T150000
DTEND;TZID=America/Menominee:20260427T163000
DTSTAMP:20260423T074715
CREATED:20260105T222414Z
LAST-MODIFIED:20260106T013939Z
UID:10005520-1777302000-1777307400@mncan.org
SUMMARY:Virtual Maple Grove Aphasia Conversation Group
DESCRIPTION:Aphasia conversation groups are 6-7 people with aphasia who gather to practice conversation techniques and find connection. The groups are facilitated by a speech language pathologist and focus on both the Life Participation Approach to Aphasia (LPAA) and Supportive Conversation for Aphasia (SCA). Conversation groups are a great opportunity to gain confidence and build friendships to continue to participate in life with aphasia. \nRegistration is required. If you are interested in learning more\, please email us at contact@mncan.org or call 612-524-8802.
URL:https://mncan.org/event/virtual-maple-grove-aphasia-conversation-group-5/2026-04-27/
LOCATION:Virtual Via Zoom
ATTACH;FMTTYPE=image/webp:https://mncan.org/wp-content/uploads/2024/09/Virtual-Meeting.webp
END:VEVENT
BEGIN:VEVENT
DTSTART;TZID=America/Menominee:20260428T080000
DTEND;TZID=America/Menominee:20260428T084500
DTSTAMP:20260423T074715
CREATED:20260112T211949Z
LAST-MODIFIED:20260112T211949Z
UID:10005724-1777363200-1777365900@mncan.org
SUMMARY:Virtual Coffee Club
DESCRIPTION:Grab your morning coffee for a casual time of participant-led conversation while supported by a Speech Pathologist. \nTo read more about the group\, click here: https://mncan.org/coffee-club/ \nThere is no fee to participate in this group but we would invite you to make a donation to MnCAN: https://mncan.org/donate-to-mncan/ \nParticipants will receive an email with Zoom each week. \nFor more information or to join this group\, please email contact@mncan.org. \n 
URL:https://mncan.org/event/virtual-coffee-club-3/2026-04-28/
LOCATION:Virtual Via Zoom
ATTACH;FMTTYPE=image/png:https://mncan.org/wp-content/uploads/2024/11/Coffee-Club.png
ORGANIZER;CN="MnCAN":MAILTO:contact@mncan.org
END:VEVENT
END:VCALENDAR